BEGIN:VCALENDAR
VERSION:2.0
PRODID:-//Plone.org//NONSGML plone.app.event//EN
X-WR-TIMEZONE:US/Central
BEGIN:VEVENT
SUMMARY:Crafting with Kristy
DTSTART;TZID=US/Central;VALUE=DATE-TIME:20130516T183000
DTEND;TZID=US/Central;VALUE=DATE-TIME:20130516T193000
DTSTAMP;VALUE=DATE-TIME:20260422T041805Z
UID:5cb041940dff6e8cc8bca8a7e6cecbbc
CREATED;VALUE=DATE-TIME:20130514T190746Z
LAST-MODIFIED;VALUE=DATE-TIME:20130514T190827Z
LOCATION:Library
URL:https://www.bethaltolibrary.org/events/lib-cal/crafting-with-kristy-2.
 ics
END:VEVENT
BEGIN:VTIMEZONE
TZID:US/Central
X-LIC-LOCATION:US/Central
BEGIN:DAYLIGHT
DTSTART;VALUE=DATE-TIME:20130310T030000
TZNAME:CDT
TZOFFSETFROM:-0600
TZOFFSETTO:-0500
END:DAYLIGHT
END:VTIMEZONE
END:VCALENDAR
