BEGIN:VCALENDAR
VERSION:2.0
PRODID:-//Plone.org//NONSGML plone.app.event//EN
X-WR-TIMEZONE:US/Central
BEGIN:VEVENT
SUMMARY:CLOSED
DTSTART;TZID=US/Central;VALUE=DATE-TIME:20071122T090000
DTEND;TZID=US/Central;VALUE=DATE-TIME:20071122T200000
DTSTAMP;VALUE=DATE-TIME:20260420T022848Z
UID:8c5206df8f1e804ba4f0fc76189bf774
CREATED;VALUE=DATE-TIME:20070621T202000Z
LAST-MODIFIED;VALUE=DATE-TIME:20070822T200512Z
LOCATION:Library
URL:https://www.bethaltolibrary.org/events/lib-cal/event.2007-06-21.131866
 5329
END:VEVENT
BEGIN:VTIMEZONE
TZID:US/Central
X-LIC-LOCATION:US/Central
BEGIN:STANDARD
DTSTART;VALUE=DATE-TIME:20071104T010000
TZNAME:CST
TZOFFSETFROM:-0500
TZOFFSETTO:-0600
END:STANDARD
END:VTIMEZONE
END:VCALENDAR
