BEGIN:VCALENDAR
VERSION:2.0
PRODID:-//Plone.org//NONSGML plone.app.event//EN
X-WR-TIMEZONE:US/Central
BEGIN:VEVENT
SUMMARY:Library Board Meeting
DTSTART;TZID=US/Central;VALUE=DATE-TIME:20090219T190000
DTEND;TZID=US/Central;VALUE=DATE-TIME:20090219T190000
DTSTAMP;VALUE=DATE-TIME:20260419T232934Z
UID:adc05a139fed668f329c5358517eb2e5
CREATED;VALUE=DATE-TIME:20080512T171551Z
LAST-MODIFIED;VALUE=DATE-TIME:20080512T171556Z
LOCATION:Little House
URL:https://www.bethaltolibrary.org/events/lib-cal/event.2008-05-12.494075
 7465
END:VEVENT
BEGIN:VTIMEZONE
TZID:US/Central
X-LIC-LOCATION:US/Central
BEGIN:STANDARD
DTSTART;VALUE=DATE-TIME:20081102T010000
TZNAME:CST
TZOFFSETFROM:-0500
TZOFFSETTO:-0600
END:STANDARD
END:VTIMEZONE
END:VCALENDAR
