BEGIN:VCALENDAR
VERSION:2.0
PRODID:-//Plone.org//NONSGML plone.app.event//EN
X-WR-TIMEZONE:US/Central
BEGIN:VEVENT
SUMMARY:Library Board Meeting
DTSTART;TZID=US/Central;VALUE=DATE-TIME:20091119T190000
DTEND;TZID=US/Central;VALUE=DATE-TIME:20091119T190000
DTSTAMP;VALUE=DATE-TIME:20260420T022659Z
UID:43c1b697af3f6003a19ba69a21f3d044
CREATED;VALUE=DATE-TIME:20090710T161106Z
LAST-MODIFIED;VALUE=DATE-TIME:20090710T161115Z
LOCATION:Little House
URL:https://www.bethaltolibrary.org/events/lib-cal/event.2009-07-10.220050
 6441
END:VEVENT
BEGIN:VTIMEZONE
TZID:US/Central
X-LIC-LOCATION:US/Central
BEGIN:STANDARD
DTSTART;VALUE=DATE-TIME:20091101T010000
TZNAME:CST
TZOFFSETFROM:-0500
TZOFFSETTO:-0600
END:STANDARD
END:VTIMEZONE
END:VCALENDAR
