BEGIN:VCALENDAR
VERSION:2.0
PRODID:-//Plone.org//NONSGML plone.app.event//EN
X-WR-TIMEZONE:US/Central
BEGIN:VEVENT
SUMMARY:RESCHEDULED - Used Book Sale
DTSTART;TZID=US/Central;VALUE=DATE-TIME:20120421T083000
DTEND;TZID=US/Central;VALUE=DATE-TIME:20120421T120000
DTSTAMP;VALUE=DATE-TIME:20260425T170931Z
UID:6426757c0fb6ffedc3ffda8cf1a8bd81
CREATED;VALUE=DATE-TIME:20120416T174120Z
LAST-MODIFIED;VALUE=DATE-TIME:20120416T174131Z
LOCATION:Little House
URL:https://www.bethaltolibrary.org/events/lib-cal/rescheduled-used-book-s
 ale.ics
END:VEVENT
BEGIN:VTIMEZONE
TZID:US/Central
X-LIC-LOCATION:US/Central
BEGIN:DAYLIGHT
DTSTART;VALUE=DATE-TIME:20120311T030000
TZNAME:CDT
TZOFFSETFROM:-0600
TZOFFSETTO:-0500
END:DAYLIGHT
END:VTIMEZONE
END:VCALENDAR
